BEGIN:VCALENDAR
VERSION:2.0
PRODID:-//FFW Stammham am Inn - ECPv5.5.0.1//NONSGML v1.0//EN
CALSCALE:GREGORIAN
METHOD:PUBLISH
X-WR-CALNAME:FFW Stammham am Inn
X-ORIGINAL-URL:https://ffw-stammham-inn.de
X-WR-CALDESC:Veranstaltungen für FFW Stammham am Inn
BEGIN:VTIMEZONE
TZID:Europe/Paris
BEGIN:DAYLIGHT
TZOFFSETFROM:+0100
TZOFFSETTO:+0200
TZNAME:CEST
DTSTART:20250330T010000
END:DAYLIGHT
BEGIN:STANDARD
TZOFFSETFROM:+0200
TZOFFSETTO:+0100
TZNAME:CET
DTSTART:20251026T010000
END:STANDARD
END:VTIMEZONE
BEGIN:VEVENT
DTSTART;TZID=Europe/Paris:20250711T190000
DTEND;TZID=Europe/Paris:20250711T190000
DTSTAMP:20260419T153506
CREATED:20241209T150622Z
LAST-MODIFIED:20241209T150622Z
UID:1586-1752260400-1752260400@ffw-stammham-inn.de
SUMMARY:Wein und Weißbierfest
DESCRIPTION:
URL:https://ffw-stammham-inn.de/veranstaltungen/wein-und-weissbierfest/
LOCATION:FF Stammham\, Innstr. 1b\, Stammham\, Bayern\, 84533\, Deutschland
CATEGORIES:Veranstaltungen
END:VEVENT
END:VCALENDAR