BEGIN:VCALENDAR
VERSION:2.0
PRODID:-//FFW Stammham am Inn - ECPv5.5.0.1//NONSGML v1.0//EN
CALSCALE:GREGORIAN
METHOD:PUBLISH
X-WR-CALNAME:FFW Stammham am Inn
X-ORIGINAL-URL:https://ffw-stammham-inn.de
X-WR-CALDESC:Veranstaltungen für FFW Stammham am Inn
BEGIN:VTIMEZONE
TZID:Europe/Paris
BEGIN:DAYLIGHT
TZOFFSETFROM:+0100
TZOFFSETTO:+0200
TZNAME:CEST
DTSTART:20240331T010000
END:DAYLIGHT
BEGIN:STANDARD
TZOFFSETFROM:+0200
TZOFFSETTO:+0100
TZNAME:CET
DTSTART:20241027T010000
END:STANDARD
END:VTIMEZONE
BEGIN:VEVENT
DTSTART;TZID=Europe/Paris:20240712T190000
DTEND;TZID=Europe/Paris:20240712T233000
DTSTAMP:20260423T053939
CREATED:20231111T120402Z
LAST-MODIFIED:20231111T120453Z
UID:1508-1720810800-1720827000@ffw-stammham-inn.de
SUMMARY:Wein und Weißbierfest
DESCRIPTION:
URL:https://ffw-stammham-inn.de/veranstaltungen/florianiamt/
LOCATION:FF Stammham\, Innstr. 1b\, Stammham\, Bayern\, 84533\, Deutschland
CATEGORIES:Veranstaltungen
END:VEVENT
BEGIN:VEVENT
DTSTART;TZID=Europe/Paris:20240714T090000
DTEND;TZID=Europe/Paris:20240714T170000
DTSTAMP:20260423T053939
CREATED:20231111T120818Z
LAST-MODIFIED:20231111T120818Z
UID:1513-1720947600-1720976400@ffw-stammham-inn.de
SUMMARY:Sommerfest mit Oldtimertreffen
DESCRIPTION:
URL:https://ffw-stammham-inn.de/veranstaltungen/sommerfest-mit-oldtimertreffen/
LOCATION:FF Stammham\, Innstr. 1b\, Stammham\, Bayern\, 84533\, Deutschland
CATEGORIES:Veranstaltungen
END:VEVENT
END:VCALENDAR