BEGIN:VCALENDAR
VERSION:2.0
PRODID:-//FFW Stammham am Inn - ECPv5.5.0.1//NONSGML v1.0//EN
CALSCALE:GREGORIAN
METHOD:PUBLISH
X-WR-CALNAME:FFW Stammham am Inn
X-ORIGINAL-URL:https://ffw-stammham-inn.de
X-WR-CALDESC:Veranstaltungen für FFW Stammham am Inn
BEGIN:VTIMEZONE
TZID:Europe/Paris
BEGIN:DAYLIGHT
TZOFFSETFROM:+0100
TZOFFSETTO:+0200
TZNAME:CEST
DTSTART:20220327T010000
END:DAYLIGHT
BEGIN:STANDARD
TZOFFSETFROM:+0200
TZOFFSETTO:+0100
TZNAME:CET
DTSTART:20221030T010000
END:STANDARD
END:VTIMEZONE
BEGIN:VEVENT
DTSTART;TZID=Europe/Paris:20221210T190000
DTEND;TZID=Europe/Paris:20221210T210000
DTSTAMP:20260422T164022
CREATED:20220109T094658Z
LAST-MODIFIED:20220109T094658Z
UID:1417-1670698800-1670706000@ffw-stammham-inn.de
SUMMARY:Weihnachtsfeier
DESCRIPTION:
URL:https://ffw-stammham-inn.de/veranstaltungen/weihnachtsfeier/
LOCATION:GH Hummel\, Haupstraße\, Stammham\, Bayern\, 84533\, Deutschland
CATEGORIES:Veranstaltungen
END:VEVENT
END:VCALENDAR