BEGIN:VCALENDAR
VERSION:2.0
PRODID:-//FFW Stammham am Inn - ECPv5.5.0.1//NONSGML v1.0//EN
CALSCALE:GREGORIAN
METHOD:PUBLISH
X-WR-CALNAME:FFW Stammham am Inn
X-ORIGINAL-URL:https://ffw-stammham-inn.de
X-WR-CALDESC:Veranstaltungen für FFW Stammham am Inn
BEGIN:VTIMEZONE
TZID:Europe/Paris
BEGIN:DAYLIGHT
TZOFFSETFROM:+0100
TZOFFSETTO:+0200
TZNAME:CEST
DTSTART:20220327T010000
END:DAYLIGHT
BEGIN:STANDARD
TZOFFSETFROM:+0200
TZOFFSETTO:+0100
TZNAME:CET
DTSTART:20221030T010000
END:STANDARD
END:VTIMEZONE
BEGIN:VEVENT
DTSTART;TZID=Europe/Paris:20220427T180000
DTEND;TZID=Europe/Paris:20220427T200000
DTSTAMP:20260426T060845
CREATED:20220109T092053Z
LAST-MODIFIED:20220109T092053Z
UID:1396-1651082400-1651089600@ffw-stammham-inn.de
SUMMARY:Jugendübung
DESCRIPTION:Hydranten
URL:https://ffw-stammham-inn.de/veranstaltungen/jugenduebung-13/
LOCATION:FF Stammham\, Innstr. 1b\, Stammham\, Bayern\, 84533\, Deutschland
CATEGORIES:Übung Jugend
END:VEVENT
BEGIN:VEVENT
DTSTART;TZID=Europe/Paris:20220508T090000
DTEND;TZID=Europe/Paris:20220508T110000
DTSTAMP:20260426T060845
CREATED:20220109T092342Z
LAST-MODIFIED:20220111T072744Z
UID:1401-1652000400-1652007600@ffw-stammham-inn.de
SUMMARY:Florianiamt Kirchgang
DESCRIPTION:
URL:https://ffw-stammham-inn.de/veranstaltungen/florianiamt-kirchgang/
LOCATION:Kirche Stammham\, Kirchenstraße 1\, Stammham\, Bayern\, 84533\, Deutschland
CATEGORIES:Veranstaltungen
END:VEVENT
BEGIN:VEVENT
DTSTART;TZID=Europe/Paris:20220511T180000
DTEND;TZID=Europe/Paris:20220511T200000
DTSTAMP:20260426T060845
CREATED:20220109T092234Z
LAST-MODIFIED:20220109T092234Z
UID:1398-1652292000-1652299200@ffw-stammham-inn.de
SUMMARY:Jugendübung
DESCRIPTION:Wasserförderung
URL:https://ffw-stammham-inn.de/veranstaltungen/jugenduebung-14/
LOCATION:FF Stammham\, Innstr. 1b\, Stammham\, Bayern\, 84533\, Deutschland
END:VEVENT
BEGIN:VEVENT
DTSTART;TZID=Europe/Paris:20220525T180000
DTEND;TZID=Europe/Paris:20220525T200000
DTSTAMP:20260426T060845
CREATED:20220109T092457Z
LAST-MODIFIED:20220109T092457Z
UID:1403-1653501600-1653508800@ffw-stammham-inn.de
SUMMARY:Jugendübung
DESCRIPTION:Technische Hilfeleistung
URL:https://ffw-stammham-inn.de/veranstaltungen/jugenduebung-15/
LOCATION:FF Stammham\, Innstr. 1b\, Stammham\, Bayern\, 84533\, Deutschland
CATEGORIES:Übung Jugend
END:VEVENT
END:VCALENDAR